BEGIN:VCALENDAR
VERSION:2.0
PRODID:-//Panoramas Club Providencia - ECPv6.5.1.4//NONSGML v1.0//EN
CALSCALE:GREGORIAN
METHOD:PUBLISH
X-WR-CALNAME:Panoramas Club Providencia
X-ORIGINAL-URL:https://panoramas.clubprovidencia.cl
X-WR-CALDESC:Eventos para Panoramas Club Providencia
REFRESH-INTERVAL;VALUE=DURATION:PT1H
X-Robots-Tag:noindex
X-PUBLISHED-TTL:PT1H
BEGIN:VTIMEZONE
TZID:America/Santiago
BEGIN:STANDARD
TZOFFSETFROM:-0300
TZOFFSETTO:-0400
TZNAME:-04
DTSTART:20240407T030000
END:STANDARD
BEGIN:DAYLIGHT
TZOFFSETFROM:-0400
TZOFFSETTO:-0300
TZNAME:-03
DTSTART:20240908T040000
END:DAYLIGHT
END:VTIMEZONE
BEGIN:VEVENT
DTSTART;TZID=America/Santiago:20241003T193000
DTEND;TZID=America/Santiago:20241003T233000
DTSTAMP:20260424T160501
CREATED:20240917T002405Z
LAST-MODIFIED:20241002T230245Z
UID:1079548-1727983800-1727998200@panoramas.clubprovidencia.cl
SUMMARY:Cupido Express - Jueves 03 de Octubre
DESCRIPTION:[vc_single_image image=»1046622″ img_size=»full»]Jueves 03 de Octubre\n\nDebido al éxito de su primera versión\, vuelve el evento de la cual todos están hablando\, incluso los medios de comunicación más importantes de Chile: “Cupido Express 2.0” que nuevamente trae la posibilidad de conocer personas en un ambiente seguro y ameno para mayores de 40 años\, citas rápidas en 5 min ¡Apúntate desde ya y haz MATCH! \n\nHorario de 19:30 a 23:30 hrs. \nENTRADA GENERAL ADULTOS\nValor por persona $10000 \nNota: la ubicación estará designada por Club Providencia\, según las reservas recibidas.
URL:https://panoramas.clubprovidencia.cl/evento/cupido-express-jueves-03-de-octubre/
CATEGORIES:PanoramasOctubre
ATTACH;FMTTYPE=image/jpeg:https://panoramas.clubprovidencia.cl/wp-content/uploads/2024/09/WhatsApp-Image-2024-10-02-at-09.00.17.jpeg
END:VEVENT
BEGIN:VEVENT
DTSTART;TZID=America/Santiago:20241004T193000
DTEND;TZID=America/Santiago:20241004T233000
DTSTAMP:20260424T160501
CREATED:20240917T012445Z
LAST-MODIFIED:20241003T185604Z
UID:1079556-1728070200-1728084600@panoramas.clubprovidencia.cl
SUMMARY:Fiesta Retro los 90 - Viernes 04 de Octubre
DESCRIPTION:[vc_single_image image=»1046622″ img_size=»full»]Viernes 04 de Octubre\n\nVuelve la fiesta más movida y buena onda de todas: esto es “Fiesta Retro 90’s” para disfrutar y bailar al ritmo de la música que marcó a una generación entera. La entretención está respaldada por el éxito de las tres versiones anteriores junto a Pepactriz en la animación y DJ Beto en los controles quienes pondrán todo lo necesario para una gran jornada de sorpresas ¡No puedes faltar! \n\nHorario de 19:30 a 23:30 hrs. \nENTRADA GENERAL ADULTOS\nValor por persona $9000 \nNota: la ubicación estará designada por Club Providencia\, según las reservas recibidas.
URL:https://panoramas.clubprovidencia.cl/evento/fiesta-retro-los-90s-viernes-04-de-octubre/
CATEGORIES:PanoramasOctubre
ATTACH;FMTTYPE=image/jpeg:https://panoramas.clubprovidencia.cl/wp-content/uploads/2024/09/retro.jpeg
END:VEVENT
BEGIN:VEVENT
DTSTART;TZID=America/Santiago:20241005T193000
DTEND;TZID=America/Santiago:20241005T233000
DTSTAMP:20260424T160501
CREATED:20240917T023816Z
LAST-MODIFIED:20241002T114235Z
UID:1079560-1728156600-1728171000@panoramas.clubprovidencia.cl
SUMMARY:Fiesta viva los 80 - Sábado 05 de Octubre
DESCRIPTION:[vc_single_image image=»1046622″ img_size=»full»]Sábado 05 de Octubre\n\n¡Prepara tu mejor look ochentero y ven a revivir los clásicos que nunca pasan de moda!  La “Viva los 80” te transportará a la década más icónica con una pista de baile cargada de éxitos inolvidables. La diversión está asegurada con los mejores hits de la época\, y el ambiente ideal para disfrutar entre amigos y familia. No te pierdas esta noche única llena de nostalgia\, luces de neón y mucha energía. ¡Nos vemos en la pista! \n\nHorario de 19:30 a 23:30 hrs. \nENTRADA GENERAL ADULTOS\nValor por persona $10000 \nNota: la ubicación estará designada por Club Providencia\, según las reservas recibidas.
URL:https://panoramas.clubprovidencia.cl/evento/fiesta-viva-los-80s/
CATEGORIES:PanoramasOctubre
ATTACH;FMTTYPE=image/png:https://panoramas.clubprovidencia.cl/wp-content/uploads/2024/09/VIVA.png
END:VEVENT
BEGIN:VEVENT
DTSTART;TZID=America/Santiago:20241011T193000
DTEND;TZID=America/Santiago:20241011T233000
DTSTAMP:20260424T160501
CREATED:20240917T033334Z
LAST-MODIFIED:20241010T132332Z
UID:1079562-1728675000-1728689400@panoramas.clubprovidencia.cl
SUMMARY:Tributo a Elvis Presley - Viernes 11 de Octubre
DESCRIPTION:[vc_single_image image=»1046622″ img_size=»full»]Viernes 11 de Octubre\n\nEs momento de retroceder en el tiempo porque te espera una gran jornada junto al Rey del Rock & Roll Elvis Presley por cuarta vez! Ven a Club Providencia a mover el esqueleto al ritmo de canciones como “Jailhouse rock”\, “Burning Love”\, “All Shook Up” y mucho más! ¡Diversión asegurada! \n\nHorario de 19:30 a 23:30 hrs. \nENTRADA GENERAL ADULTOS\nValor por persona $9000 \nNota: la ubicación estará designada por Club Providencia\, según las reservas recibidas.
URL:https://panoramas.clubprovidencia.cl/evento/tributo-a-elvis-presley/
CATEGORIES:PanoramasOctubre
ATTACH;FMTTYPE=image/jpeg:https://panoramas.clubprovidencia.cl/wp-content/uploads/2024/10/Imagen-de-WhatsApp-2024-10-10-a-las-09.42.45_23228515.jpg
END:VEVENT
BEGIN:VEVENT
DTSTART;TZID=America/Santiago:20241012T193000
DTEND;TZID=America/Santiago:20241012T233000
DTSTAMP:20260424T160501
CREATED:20240917T042831Z
LAST-MODIFIED:20241012T193625Z
UID:1079580-1728761400-1728775800@panoramas.clubprovidencia.cl
SUMMARY:Disco Party 70 & 80 - Sábado 12 de Octubre
DESCRIPTION:[vc_single_image image=»1046622″ img_size=»full»]Sábado 12 de Octubre\n\n¡Súbete a la máquina del tiempo! Vuelve la “Disco Party 70 y 80” con todo el glamour\, brillo y ritmo que solo estas décadas nos pueden dar. 🕺 Saca tus mejores pasos y disfruta de una noche de fiesta al son de los grandes éxitos que hicieron bailar al mundo entero. Desde los inolvidables hits de la era disco hasta los himnos de los 80\, será una velada llena de diversión y buen rollo. ¡No te quedes fuera de esta fiesta épica! \n\nHorario de 19:30 a 23:30 hrs. \nENTRADA GENERAL\nValor por persona $10.000 \nNota: la ubicación estará designada por Club Providencia\, según las reservas recibidas.
URL:https://panoramas.clubprovidencia.cl/evento/disco-party-70-80-sabado-12-de-octubre/
CATEGORIES:PanoramasOctubre
ATTACH;FMTTYPE=image/png:https://panoramas.clubprovidencia.cl/wp-content/uploads/2024/09/Gran-Disco-Party-Post-de-Instagram-1.png
END:VEVENT
BEGIN:VEVENT
DTSTART;TZID=America/Santiago:20241018T193000
DTEND;TZID=America/Santiago:20241018T233000
DTSTAMP:20260424T160501
CREATED:20240917T043110Z
LAST-MODIFIED:20240927T165209Z
UID:1079564-1729279800-1729294200@panoramas.clubprovidencia.cl
SUMMARY:Fiesta disco en vivo Funky Dúo - Viernes 18 de Octubre
DESCRIPTION:[vc_single_image image=»1046622″ img_size=»full»]Viernes 18 de Octubre\n\nA pedido del público!!! Vuelve la fiesta Disco que en el año 2023 arrasó con todo. Esta vez bajo el nombre de Funky Dúo\, cantarán en vivo Pepactriz y Fernando Carrillo (doble oficial de Barry White) quienes harán bailar a todo Club Providencia con un repertorio con lo mejor de los 70’s y 80’s.\nLos esperamos para una noche que será difícil de olvidar! \n\nHorario de 19:30 a 23:30 hrs. \nENTRADA GENERAL\nValor por persona $9.000 \nNota: la ubicación estará designada por Club Providencia\, según las reservas recibidas.
URL:https://panoramas.clubprovidencia.cl/evento/fiesta-disco-en-vivo-funky-duo/
CATEGORIES:PanoramasOctubre
ATTACH;FMTTYPE=image/jpeg:https://panoramas.clubprovidencia.cl/wp-content/uploads/2024/09/funky-Duo.jpeg
END:VEVENT
BEGIN:VEVENT
DTSTART;TZID=America/Santiago:20241019T193000
DTEND;TZID=America/Santiago:20241019T233000
DTSTAMP:20260424T160501
CREATED:20240917T062905Z
LAST-MODIFIED:20240927T165130Z
UID:1079581-1729366200-1729380600@panoramas.clubprovidencia.cl
SUMMARY:Noche Caribeña - Sábado 19 de Octubre
DESCRIPTION:[vc_single_image image=»1046622″ img_size=»full»]Sábado 19 de Octubre\n\nEl calor y sabor del Caribe llegan al Club Providencia con la “Noche Caribeña” Prepárate para bailar toda la noche al ritmo de la salsa\, merengue\, bachata y más\, con una fiesta llena de colores y vibras tropicales. Las sorpresas no faltarán en esta jornada llena de sabor y alegría. Si te gusta la música contagiosa y los ritmos latinos\, ¡esta es tu fiesta! ¡A mover el cuerpo y disfrutar bajo las estrellas caribeñas! \n\nHorario de 19:30 a 23:30 hrs. \nENTRADA GENERAL\nValor por persona $10.000 \nNota: la ubicación estará designada por Club Providencia\, según las reservas recibidas.
URL:https://panoramas.clubprovidencia.cl/evento/noche-caribena-sabado-19-de-octubre/
CATEGORIES:PanoramasOctubre
ATTACH;FMTTYPE=image/png:https://panoramas.clubprovidencia.cl/wp-content/uploads/2024/09/fiesta-caribena-.png
END:VEVENT
BEGIN:VEVENT
DTSTART;TZID=America/Santiago:20241025T193000
DTEND;TZID=America/Santiago:20241025T233000
DTSTAMP:20260424T160501
CREATED:20240918T002928Z
LAST-MODIFIED:20240927T165000Z
UID:1079558-1729884600-1729899000@panoramas.clubprovidencia.cl
SUMMARY:Tributo a Soda & Cerati - Viernes 25 de Octubre
DESCRIPTION:[vc_single_image image=»1046622″ img_size=»full»]Viernes 25 de octubre\n\nPara cerrar el mes en grande y por cuarta vez en Club Providencia\, llega lo mejor del rock argentino a manos del Tributo Soda Stereo/Gustavo Cerati.\nEn esta nueva jornada musical podremos disfrutar de canciones como “De música ligera ”\, “Prófugos”\, “Nada Personal”\, “Adiós” y mucho más!\n¡Ven con tu familia y/o amigos para que cantemos juntos! \n\nHorario de 19:30 a 23:30 hrs. \nENTRADA GENERAL\nValor por persona $9.000 \nNota: la ubicación estará designada por Club Providencia\, según las reservas recibidas.
URL:https://panoramas.clubprovidencia.cl/evento/tributo-a-soda-cerati-viernes-25-de-octubre/
CATEGORIES:PanoramasOctubre
ATTACH;FMTTYPE=image/jpeg:https://panoramas.clubprovidencia.cl/wp-content/uploads/2024/09/Soda-y-Cerati.jpeg
END:VEVENT
END:VCALENDAR