BEGIN:VCALENDAR
VERSION:2.0
PRODID:-//Panoramas Club Providencia - ECPv6.5.1.4//NONSGML v1.0//EN
CALSCALE:GREGORIAN
METHOD:PUBLISH
X-ORIGINAL-URL:https://panoramas.clubprovidencia.cl
X-WR-CALDESC:Eventos para Panoramas Club Providencia
REFRESH-INTERVAL;VALUE=DURATION:PT1H
X-Robots-Tag:noindex
X-PUBLISHED-TTL:PT1H
BEGIN:VTIMEZONE
TZID:America/Santiago
BEGIN:STANDARD
TZOFFSETFROM:-0300
TZOFFSETTO:-0400
TZNAME:-04
DTSTART:20250406T030000
END:STANDARD
BEGIN:DAYLIGHT
TZOFFSETFROM:-0400
TZOFFSETTO:-0300
TZNAME:-03
DTSTART:20250907T040000
END:DAYLIGHT
END:VTIMEZONE
BEGIN:VEVENT
DTSTART;TZID=America/Santiago:20250913T193000
DTEND;TZID=America/Santiago:20250913T233000
DTSTAMP:20260424T103412
CREATED:20250821T170412Z
LAST-MODIFIED:20250821T170412Z
UID:1098947-1757791800-1757806200@panoramas.clubprovidencia.cl
SUMMARY:Sábado 13 de septiembre - Viva Chile
DESCRIPTION:[vc_single_image image=»1046622″ img_size=»full»]SÁBADO 13 DE SEPTIEMBRE\n\n¡Celebremos juntos en en Club Providencia!💃 Ballet Integra Folk con un show de baile chileno🌺 Cueca Tradicional\, Cueca Brava y Rapa Nui🎧 DJ Jorge Valero🔥 ¡Gran fiesta bailable para gritar VIVA CHILE! \nHorario de 19:30 a 23:30 hrs. \n\nENTRADA GENERAL\nValor por persona $12.000 \nNota: la ubicación estará designada por Club Providencia\, según las reservas recibidas.
URL:https://panoramas.clubprovidencia.cl/evento/13deseptiembre-vivachile/
CATEGORIES:Panoramas
ATTACH;FMTTYPE=image/png:https://panoramas.clubprovidencia.cl/wp-content/uploads/2025/08/3.png
END:VEVENT
BEGIN:VEVENT
DTSTART;TZID=America/Santiago:20250913T193000
DTEND;TZID=America/Santiago:20250913T233000
DTSTAMP:20260424T103412
CREATED:20250908T213521Z
LAST-MODIFIED:20250913T132557Z
UID:1099996-1757791800-1757806200@panoramas.clubprovidencia.cl
SUMMARY:Sábado 13 de septiembre - Disco Sour
DESCRIPTION:[vc_single_image image=»1046622″ img_size=»full»]SÁBADO 13 DE SEPTIEMBRE\n\n¡NOCHE DE DISCO SOUR! Te espera una jornada llena de baile y clásicos en vivo este próximo sábado 13 de septiembre en Club Providencia con la fiesta más esperada con los ritmos irresistibles de los 70s y 80s. En el escenario\, por quinta vez en lo que va del año: Lucho Arenas Jr. y Pepa Valenzuela\, una dupla que ya se ganó al público con su energía y talento\, encendiendo la pista en cada presentación ¡Compra tu entrada antes de agotar! \nHorario de 19:30 a 23:30 hrs. \n\nENTRADA GENERAL\nValor por persona $10.000 \nNota: la ubicación estará designada por Club Providencia\, según las reservas recibidas.
URL:https://panoramas.clubprovidencia.cl/evento/sabado-13-de-septiembre-disco-sour/
CATEGORIES:Panoramas
ATTACH;FMTTYPE=image/jpeg:https://panoramas.clubprovidencia.cl/wp-content/uploads/2025/09/WhatsApp-Image-2025-09-08-at-14.27.22.jpeg
END:VEVENT
END:VCALENDAR