BEGIN:VCALENDAR
VERSION:2.0
PRODID:-//Panoramas Club Providencia - ECPv6.5.1.4//NONSGML v1.0//EN
CALSCALE:GREGORIAN
METHOD:PUBLISH
X-ORIGINAL-URL:https://panoramas.clubprovidencia.cl
X-WR-CALDESC:Eventos para Panoramas Club Providencia
REFRESH-INTERVAL;VALUE=DURATION:PT1H
X-Robots-Tag:noindex
X-PUBLISHED-TTL:PT1H
BEGIN:VTIMEZONE
TZID:America/Santiago
BEGIN:STANDARD
TZOFFSETFROM:-0300
TZOFFSETTO:-0400
TZNAME:-04
DTSTART:20240407T030000
END:STANDARD
BEGIN:DAYLIGHT
TZOFFSETFROM:-0400
TZOFFSETTO:-0300
TZNAME:-03
DTSTART:20240908T040000
END:DAYLIGHT
END:VTIMEZONE
BEGIN:VEVENT
DTSTART;TZID=America/Santiago:20241102T193000
DTEND;TZID=America/Santiago:20241102T233000
DTSTAMP:20260423T174153
CREATED:20241025T160042Z
LAST-MODIFIED:20241104T150903Z
UID:1079583-1730575800-1730590200@panoramas.clubprovidencia.cl
SUMMARY:HALLOWEEN - Sábado 02 de Noviembre
DESCRIPTION:[vc_single_image image=»1046622″ img_size=»full»]Sábado 02 de noviembre\n\nLa fiesta más escalofriante del año está aquí ¡Es la “Fiesta Halloween” del Club Providencia! Prepara tu mejor disfraz y ven a disfrutar de una noche llena de misterio\, diversión y música que te pondrá a bailar sin parar. ¡Nos vemos en la pista\, si te atreves! \n\nHorario de 19:30 a 23:30 hrs. \nENTRADA GENERAL\nValor por persona $10.000 \nNota: la ubicación estará designada por Club Providencia\, según las reservas recibidas.
URL:https://panoramas.clubprovidencia.cl/evento/halloween-sabado-02-de-noviembre/
CATEGORIES:Panoramas
ATTACH;FMTTYPE=image/png:https://panoramas.clubprovidencia.cl/wp-content/uploads/2024/09/HALLOWEEN.png
END:VEVENT
END:VCALENDAR