BEGIN:VCALENDAR
VERSION:2.0
PRODID:-//Panoramas Club Providencia - ECPv6.5.1.4//NONSGML v1.0//EN
CALSCALE:GREGORIAN
METHOD:PUBLISH
X-ORIGINAL-URL:https://panoramas.clubprovidencia.cl
X-WR-CALDESC:Eventos para Panoramas Club Providencia
REFRESH-INTERVAL;VALUE=DURATION:PT1H
X-Robots-Tag:noindex
X-PUBLISHED-TTL:PT1H
BEGIN:VTIMEZONE
TZID:America/Santiago
BEGIN:STANDARD
TZOFFSETFROM:-0300
TZOFFSETTO:-0400
TZNAME:-04
DTSTART:20240407T030000
END:STANDARD
BEGIN:DAYLIGHT
TZOFFSETFROM:-0400
TZOFFSETTO:-0300
TZNAME:-03
DTSTART:20240908T040000
END:DAYLIGHT
END:VTIMEZONE
BEGIN:VEVENT
DTSTART;TZID=America/Santiago:20240907T080000
DTEND;TZID=America/Santiago:20240907T170000
DTSTAMP:20260424T232601
CREATED:20240817T154946Z
LAST-MODIFIED:20240823T204200Z
UID:1078676-1725696000-1725728400@panoramas.clubprovidencia.cl
SUMMARY:Celebremos Fiestas Patrias 🇨🇱 - Sábado 7
DESCRIPTION:[vc_single_image image=»1046622″ img_size=»full»]\n  \n🇨🇱¡Celebremos Fiestas Patrias en familia! \nEl Sábado 7 y Domingo 8 de Septiembre\, te esperamos con un entretenido panorama. Habrá folclor\, presentaciones artísticas\, juegos criollos\, comida típica\, competencias y stand de emprendedores locales. \n⏰ Desde las 11:00 de la mañana\, en el Gimnasio Múltiple\, te invitamos a disfrutar de momentos inolvidables. La entrada es ¡¡Gratuita!! \nNo pierdas esta oportunidad de compartir en comunidad y vivir las tradiciones de manera única en Club Providencia. \n🎈¡Y hay más sorpresas! Si tu pequeño llega luciendo su traje típico de Fiestas Patrias\, ¡se llevará un premio especial!🏆. \nComparte esta invitación con amigos y familiares. ¡Te esperamos para celebrar juntos! Revisa nuestra programación. !!Te esperamos!!🇨🇱
URL:https://panoramas.clubprovidencia.cl/evento/celebremos-fiestas-patrias-sabado-7/
CATEGORIES:PanoramasSeptiembre
ATTACH;FMTTYPE=image/jpeg:https://panoramas.clubprovidencia.cl/wp-content/uploads/2024/08/WhatsApp-Image-2024-08-22-at-10.16.21-1.jpeg
END:VEVENT
BEGIN:VEVENT
DTSTART;TZID=America/Santiago:20240907T080000
DTEND;TZID=America/Santiago:20240908T170000
DTSTAMP:20260424T232601
CREATED:20240817T153208Z
LAST-MODIFIED:20240823T204152Z
UID:1078671-1725696000-1725814800@panoramas.clubprovidencia.cl
SUMMARY:Celebremos Fiestas Patrias 🇨🇱 - 7 y 8 de septiembre
DESCRIPTION:[vc_single_image image=»1046622″ img_size=»full»]\n🇨🇱¡Celebremos Fiestas Patrias en familia! \nEl Sábado 7 y Domingo 8 de Septiembre\, te esperamos con un entretenido panorama. Habrá folclor\, presentaciones artísticas\, juegos criollos\, comida típica\, competencias y stand de emprendedores locales. \n⏰ Desde las 11:00 de la mañana\, en el Gimnasio Múltiple\, te invitamos a disfrutar de momentos inolvidables. La entrada es ¡¡Gratuita!! \nNo pierdas esta oportunidad de compartir en comunidad y vivir las tradiciones de manera única en Club Providencia. \n🎈¡Y hay más sorpresas! Si tu pequeño llega luciendo su traje típico de Fiestas Patrias\, ¡se llevará un premio especial!🏆. \nComparte esta invitación con amigos y familiares. ¡Te esperamos para celebrar juntos! Revisa nuestra programación. !!Te esperamos!!🇨🇱
URL:https://panoramas.clubprovidencia.cl/evento/celebremos-fiestas-patrias/
CATEGORIES:PanoramasSeptiembre
ATTACH;FMTTYPE=image/jpeg:https://panoramas.clubprovidencia.cl/wp-content/uploads/2024/08/WhatsApp-Image-2024-08-22-at-10.16.21.jpeg
END:VEVENT
BEGIN:VEVENT
DTSTART;TZID=America/Santiago:20240907T193000
DTEND;TZID=America/Santiago:20240907T233000
DTSTAMP:20260424T232601
CREATED:20240816T175554Z
LAST-MODIFIED:20240823T205628Z
UID:1078599-1725737400-1725751800@panoramas.clubprovidencia.cl
SUMMARY:Fiesta Cumbianchera 💃🎉 - Sábado 7 de septiembre
DESCRIPTION:[vc_single_image image=»1046622″ img_size=»full»]\nSábado 7 de septiembre\n\nSeptiembre se festeja con buena música cumbianchera junto a Ignacio Corona y su cumbión! \nVen a celebrar con un show único e irrepetible. \n¡Asegura pronto tus entradas! \n\nHorario de 19:30 a 23:30 hrs. \nENTRADA GENERAL\nValor por persona $10.000 \nNota: la ubicación estará designada por Club Providencia\, según las reservas recibidas.
URL:https://panoramas.clubprovidencia.cl/evento/fiesta-cumbianchera/
CATEGORIES:PanoramasSeptiembre
ATTACH;FMTTYPE=image/png:https://panoramas.clubprovidencia.cl/wp-content/uploads/2024/08/Restaurante-Club-Providencia-Pocuro-2878-1-1.png
END:VEVENT
END:VCALENDAR