BEGIN:VCALENDAR
VERSION:2.0
PRODID:-//Panoramas Club Providencia - ECPv6.5.1.4//NONSGML v1.0//EN
CALSCALE:GREGORIAN
METHOD:PUBLISH
X-WR-CALNAME:Panoramas Club Providencia
X-ORIGINAL-URL:https://panoramas.clubprovidencia.cl
X-WR-CALDESC:Eventos para Panoramas Club Providencia
REFRESH-INTERVAL;VALUE=DURATION:PT1H
X-Robots-Tag:noindex
X-PUBLISHED-TTL:PT1H
BEGIN:VTIMEZONE
TZID:America/Sao_Paulo
BEGIN:STANDARD
TZOFFSETFROM:-0300
TZOFFSETTO:-0300
TZNAME:-03
DTSTART:20240101T000000
END:STANDARD
END:VTIMEZONE
BEGIN:VEVENT
DTSTART;TZID=America/Sao_Paulo:20240718T193000
DTEND;TZID=America/Sao_Paulo:20240718T233000
DTSTAMP:20260425T113100
CREATED:20240618T200015Z
LAST-MODIFIED:20240718T164605Z
UID:1076097-1721331000-1721345400@panoramas.clubprovidencia.cl
SUMMARY:Tributo a Journey - Jueves 18 de julio
DESCRIPTION:[vc_single_image image=»1046622″ img_size=»full»]Jueves 18 de julio\nEste año Journey vuelve a Chile y en Club Providencia queremos festejar este acontecimiento con el tributo a la legendaria banda estadounidense. Será una gran oportunidad para disfrutar emblemáticas canciones como “Don’t Stop Believin”\, “Open Arms” y “Faithfully” entre muchos otros. ¡No te lo puedes perder! \nENTRADA GENERAL \n$10.000 \nNota: la ubicación estará designada por Club Providencia\, según las reservas recibidas.
URL:https://panoramas.clubprovidencia.cl/evento/tributo-a-journey-jueves-18-de-julio/
CATEGORIES:Panoramas
ATTACH;FMTTYPE=image/jpeg:https://panoramas.clubprovidencia.cl/wp-content/uploads/2024/06/WhatsApp-Image-2024-06-14-at-7.16.34-PM-1.jpeg
END:VEVENT
END:VCALENDAR