BEGIN:VCALENDAR
VERSION:2.0
PRODID:-//Panoramas Club Providencia - ECPv6.5.1.4//NONSGML v1.0//EN
CALSCALE:GREGORIAN
METHOD:PUBLISH
X-WR-CALNAME:Panoramas Club Providencia
X-ORIGINAL-URL:https://panoramas.clubprovidencia.cl
X-WR-CALDESC:Eventos para Panoramas Club Providencia
REFRESH-INTERVAL;VALUE=DURATION:PT1H
X-Robots-Tag:noindex
X-PUBLISHED-TTL:PT1H
BEGIN:VTIMEZONE
TZID:America/Santiago
BEGIN:STANDARD
TZOFFSETFROM:-0300
TZOFFSETTO:-0400
TZNAME:-04
DTSTART:20240407T030000
END:STANDARD
BEGIN:DAYLIGHT
TZOFFSETFROM:-0400
TZOFFSETTO:-0300
TZNAME:-03
DTSTART:20240908T040000
END:DAYLIGHT
END:VTIMEZONE
BEGIN:VEVENT
DTSTART;TZID=America/Santiago:20240713T193000
DTEND;TZID=America/Santiago:20240713T233000
DTSTAMP:20260425T100143
CREATED:20240618T195921Z
LAST-MODIFIED:20240703T184744Z
UID:1076234-1720899000-1720913400@panoramas.clubprovidencia.cl
SUMMARY:GRAN FIESTA DISCO 🪩 - Sábado 13 de julio
DESCRIPTION:[vc_single_image image=»1046622″ img_size=»full»]Sábado 13 de julio\nIsabel Riquelme y DJ Jorge Valero EN VIVO \nSúmate y revive la era dorada de los 70 y 80\, con los mejores hits de la onda disco. Esta noche promete una experiencia vibrante\, con ritmos que te llevarán a bailar sin parar\, en una atmósfera llena de nostalgia y diversión. \n¡No te lo puedes perder! \nENTRADA GENERAL \n$10.000 \nNota: la ubicación estará designada por Club Providencia\, según las reservas recibidas.
URL:https://panoramas.clubprovidencia.cl/evento/gran_fiesta_disco-2024/
LOCATION:Club Providencia\, Pocuro 2878\, Chile
CATEGORIES:Panoramas
ATTACH;FMTTYPE=image/png:https://panoramas.clubprovidencia.cl/wp-content/uploads/2024/06/Fiesta-disco.png
END:VEVENT
END:VCALENDAR