BEGIN:VCALENDAR
VERSION:2.0
PRODID:-//Panoramas Club Providencia - ECPv6.5.1.4//NONSGML v1.0//EN
CALSCALE:GREGORIAN
METHOD:PUBLISH
X-WR-CALNAME:Panoramas Club Providencia
X-ORIGINAL-URL:https://panoramas.clubprovidencia.cl
X-WR-CALDESC:Eventos para Panoramas Club Providencia
REFRESH-INTERVAL;VALUE=DURATION:PT1H
X-Robots-Tag:noindex
X-PUBLISHED-TTL:PT1H
BEGIN:VTIMEZONE
TZID:America/Sao_Paulo
BEGIN:STANDARD
TZOFFSETFROM:-0300
TZOFFSETTO:-0300
TZNAME:-03
DTSTART:20240101T000000
END:STANDARD
END:VTIMEZONE
BEGIN:VEVENT
DTSTART;TZID=America/Sao_Paulo:20240217T193000
DTEND;TZID=America/Sao_Paulo:20240217T233000
DTSTAMP:20260425T190709
CREATED:20240123T163258Z
LAST-MODIFIED:20240123T190538Z
UID:1071061-1708198200-1708212600@panoramas.clubprovidencia.cl
SUMMARY:Gran Noche Caribeña Sábado 17 de Febrero
DESCRIPTION:[vc_single_image image=»1046622″ img_size=»full»]Sábado 17 de Febrero 19:30 hrs.\n¡Te invitamos a bailar sin parar merengue\, salsa\, bachata y mucho más! \nUna noche llena de ritmo te espera este sábado 17 de enero\, desde las 19:30hrs. Ademas\, contaremos con música en vivo de y los ritmos de nuestro DJ. \n¡Compra tus entradas antes de que se agoten! \nENTRADA GENERAL \n$10.000 \nNota: la ubicación estará designada por Club Providencia\, según las reservas recibidas.
URL:https://panoramas.clubprovidencia.cl/evento/gran-noche-caribena-sabado-17-de-febrero/
CATEGORIES:Restaurante
ATTACH;FMTTYPE=image/jpeg:https://panoramas.clubprovidencia.cl/wp-content/uploads/2024/01/caribena.jpeg
END:VEVENT
END:VCALENDAR